BEGIN:VCALENDAR
VERSION:2.0
PRODID:-//wp-events-plugin.com//7.1.7//EN
TZID:Europe/Paris
X-WR-TIMEZONE:Europe/Paris
BEGIN:VEVENT
UID:0-418@lecannetdesmaures.com
DTSTART;TZID=Europe/Paris:20250924T143000
DTEND;TZID=Europe/Paris:20250924T160000
DTSTAMP:20250815T114431Z
URL:https://www.lecannetdesmaures.com/evenements/rando-net/
SUMMARY:RANDO NET
DESCRIPTION:Avec la RNNPM : la Réserve naturelle nationale de la Plaine de
 s Maures et la Ville vous invite à participer à cette action mêlant ram
 assage des déchets solidaire et balade naturaliste\nInscription obligatoi
 re\nRenseignements et inscription :\nTél. : 04 94 50 06 04
ATTACH;FMTTYPE=image/jpeg:https://www.lecannetdesmaures.com/app/uploads/20
 25/08/09.24-RandoNet-2025-scaled.jpg
CATEGORIES:Agenda
END:VEVENT
BEGIN:VTIMEZONE
TZID:Europe/Paris
X-LIC-LOCATION:Europe/Paris
BEGIN:DAYLIGHT
DTSTART:20250330T030000
TZOFFSETFROM:+0100
TZOFFSETTO:+0200
TZNAME:CEST
END:DAYLIGHT
END:VTIMEZONE
END:VCALENDAR