BEGIN:VCALENDAR
VERSION:2.0
PRODID:-//wp-events-plugin.com//7.1.7//EN
TZID:Europe/Paris
X-WR-TIMEZONE:Europe/Paris
BEGIN:VEVENT
UID:0-392@lecannetdesmaures.com
DTSTART;TZID=Europe/Paris:20250803T090000
DTEND;TZID=Europe/Paris:20250803T130000
DTSTAMP:20250709T104516Z
URL:https://www.lecannetdesmaures.com/evenements/rassembelemnt-automobile/
SUMMARY:Rassemblement de passionnés de véhicules d'époque
DESCRIPTION:Chaque premier dimanche de chaque mois\, l'association VAR ALPI
 NE LEGENDE organise un rassemblement de véhicules d'époque (auto-motos t
 outes marques confondues) de 9h à 13h sur le parking des Terrasses de la 
 Gare.\nRenseignements :\n06 82 12 30 47
ATTACH;FMTTYPE=image/jpeg:https://www.lecannetdesmaures.com/app/uploads/20
 25/04/IMG_4679.jpg
CATEGORIES:Agenda
END:VEVENT
BEGIN:VTIMEZONE
TZID:Europe/Paris
X-LIC-LOCATION:Europe/Paris
BEGIN:DAYLIGHT
DTSTART:20250330T030000
TZOFFSETFROM:+0100
TZOFFSETTO:+0200
TZNAME:CEST
END:DAYLIGHT
END:VTIMEZONE
END:VCALENDAR