BEGIN:VCALENDAR
VERSION:2.0
PRODID:-//wp-events-plugin.com//7.1.7//EN
TZID:Europe/Paris
X-WR-TIMEZONE:Europe/Paris
BEGIN:VEVENT
UID:0-367@lecannetdesmaures.com
DTSTART;TZID=Europe/Paris:20250601T090000
DTEND;TZID=Europe/Paris:20250601T170000
DTSTAMP:20250429T105814Z
URL:https://www.lecannetdesmaures.com/evenements/rassemblement-automobile-
 2/
SUMMARY:Rassemblement automobile - 70 ans de l'Alpine
DESCRIPTION:Dimanche 1er juin 2025\, de 9h à 17h\, le parking des Terrasse
 s de la Gare au Cannet des Maures vibre au rythme des moteurs pour fêter 
 les 70 ans de la légendaire Alpine\, avec le club Var Alpine Légende.\n
 🔹 Grande parade à 11h 🔹 Voitures toutes marques bienvenues 🔹 Ani
 mations\, restauration sur place\n🎟️ Entrée libre \nInformations :\n
 📞 contact : 06 82 12 30 47📩 varalpinelegende@gmail.com
ATTACH;FMTTYPE=image/jpeg:https://www.lecannetdesmaures.com/app/uploads/20
 25/04/Affiche-Le-Cannet-01-06-2025-Mairie-scaled.jpg
CATEGORIES:Agenda
END:VEVENT
BEGIN:VTIMEZONE
TZID:Europe/Paris
X-LIC-LOCATION:Europe/Paris
BEGIN:DAYLIGHT
DTSTART:20250330T030000
TZOFFSETFROM:+0100
TZOFFSETTO:+0200
TZNAME:CEST
END:DAYLIGHT
END:VTIMEZONE
END:VCALENDAR