BEGIN:VCALENDAR
VERSION:2.0
PRODID:-//wp-events-plugin.com//7.1.7//EN
TZID:Europe/Paris
X-WR-TIMEZONE:Europe/Paris
BEGIN:VEVENT
UID:0-445@lecannetdesmaures.com
DTSTART;TZID=Europe/Paris:20251102T090000
DTEND;TZID=Europe/Paris:20251102T130000
DTSTAMP:20251027T104612Z
URL:https://www.lecannetdesmaures.com/evenements/rassemblement-automobile-
 3/
SUMMARY:Rassemblement automobile
DESCRIPTION:Dimanche 2 novembre 2025\, de 9h à 13h sur le parking des Terr
 asses de la Gare\, comme tous les premiers dimanches du mois. \nRassemblem
 ent organisé par Var Alpine Légende.\nEntrée Libre.\nInfos/réservation
 s : \nTél : 06 82 12 30 47
ATTACH;FMTTYPE=image/jpeg:https://www.lecannetdesmaures.com/app/uploads/20
 25/10/IMG_4671.jpg
CATEGORIES:Agenda
END:VEVENT
BEGIN:VTIMEZONE
TZID:Europe/Paris
X-LIC-LOCATION:Europe/Paris
BEGIN:STANDARD
DTSTART:20251026T020000
TZOFFSETFROM:+0200
TZOFFSETTO:+0100
TZNAME:CET
END:STANDARD
END:VTIMEZONE
END:VCALENDAR