BEGIN:VCALENDAR
VERSION:2.0
PRODID:-//wp-events-plugin.com//7.1.7//EN
TZID:Europe/Paris
X-WR-TIMEZONE:Europe/Paris
BEGIN:VEVENT
UID:0-365@lecannetdesmaures.com
DTSTART;TZID=Europe/Paris:20250518T103000
DTEND;TZID=Europe/Paris:20250518T160000
DTSTAMP:20250429T100643Z
URL:https://www.lecannetdesmaures.com/evenements/rose-day-copiecooncours-p
 etanque/
SUMMARY:Concours de pétanque
DESCRIPTION:Le dimanche 18 mai 2025\, dès 10h30\, participez au concours d
 e pétanque organisé par l'association des parents d'élèves APEI au bou
 lodrome Roger Botrini.\nComposez votre équipe  :👦 1 enfant + 👨 1 ad
 o (+14 ans) ou adulte👉 Participation : 5€ par équipe🥇 Récompense
 s pour tous et buvette sur place pour se rafraîchir entre deux parties.\n
 📲 Inscription en ligne dès maintenant sur HelloAsso :\n https://www.he
 lloasso.com/associations/association-des-parents-d-eleves-independants-les
 -enfants-d-abord/evenements/tournoi-de-petanque-en-famille-ou-entre-potes-
 au-cannet-des-maures-2\nRenseignements :\n06.73.48.24.51
ATTACH;FMTTYPE=image/jpeg:https://www.lecannetdesmaures.com/app/uploads/20
 25/04/Affiche-petanque-2025-.jpg
CATEGORIES:Agenda
END:VEVENT
BEGIN:VTIMEZONE
TZID:Europe/Paris
X-LIC-LOCATION:Europe/Paris
BEGIN:DAYLIGHT
DTSTART:20250330T030000
TZOFFSETFROM:+0100
TZOFFSETTO:+0200
TZNAME:CEST
END:DAYLIGHT
END:VTIMEZONE
END:VCALENDAR