BEGIN:VCALENDAR
VERSION:2.0
PRODID:-//wp-events-plugin.com//7.1.7//EN
TZID:Europe/Paris
X-WR-TIMEZONE:Europe/Paris
BEGIN:VEVENT
UID:0-441@lecannetdesmaures.com
DTSTART;TZID=Europe/Paris:20251025T143000
DTEND;TZID=Europe/Paris:20251025T160000
DTSTAMP:20251020T122458Z
URL:https://www.lecannetdesmaures.com/evenements/seance-de-contes-3/
SUMMARY:Séance de contes
DESCRIPTION:Samedi 25 octobre à 14h30\, séance de contes avec l'équipe d
 e votre Médiathèque\, à la Médiathèque.\nEntrée libre dès 4 ans.\nR
 enseignements : 04 94 50 35 20
ATTACH;FMTTYPE=image/jpeg:https://www.lecannetdesmaures.com/app/uploads/20
 25/10/561006725_815739404148780_265920017747577925_n.jpg
CATEGORIES:Agenda
END:VEVENT
BEGIN:VTIMEZONE
TZID:Europe/Paris
X-LIC-LOCATION:Europe/Paris
BEGIN:DAYLIGHT
DTSTART:20250330T030000
TZOFFSETFROM:+0100
TZOFFSETTO:+0200
TZNAME:CEST
END:DAYLIGHT
END:VTIMEZONE
END:VCALENDAR