BEGIN:VCALENDAR
VERSION:2.0
PRODID:-//wp-events-plugin.com//7.1.7//EN
TZID:Europe/Paris
X-WR-TIMEZONE:Europe/Paris
BEGIN:VEVENT
UID:0-423@lecannetdesmaures.com
DTSTART;TZID=Europe/Paris;VALUE=DATE:20251006
DTEND;TZID=Europe/Paris;VALUE=DATE:20251011
DTSTAMP:20250903T202639Z
URL:https://www.lecannetdesmaures.com/evenements/semaine-bl/
SUMMARY:La Semaine Bleue
DESCRIPTION:La Semaine Bleue est l'occasion pour les acteurs qui travaillen
 t régulièrement auprès des aînés d'organiser tout au long de la semai
 ne des animations permettant de créer des liens et d'inviter le grand pub
 lic à prendre conscience de la place et du rôle joué par les anciens da
 ns notre société.\nPartout en France des manifestations sont organisées
 .\nAu Cannet des Maures\, les services de la ville en partenariat avec les
  associations locales proposent des animations\, rencontres\, programmatio
 ns culturelles avec une volonté de fêter le partage inter générations.
 \nRenseignements :\n 04 94 50 10 09&nbsp\;ou 04 94 50 08 21\nccas@lecannet
 desmaures.com
ATTACH;FMTTYPE=image/jpeg:https://www.lecannetdesmaures.com/app/uploads/20
 25/09/Capture-decran-2025-08-11-105153.png
CATEGORIES:Agenda,Senior
END:VEVENT
BEGIN:VTIMEZONE
TZID:Europe/Paris
X-LIC-LOCATION:Europe/Paris
BEGIN:DAYLIGHT
DTSTART:20250330T030000
TZOFFSETFROM:+0100
TZOFFSETTO:+0200
TZNAME:CEST
END:DAYLIGHT
END:VTIMEZONE
END:VCALENDAR