BEGIN:VCALENDAR
VERSION:2.0
PRODID:-//wp-events-plugin.com//7.1.7//EN
TZID:Europe/Paris
X-WR-TIMEZONE:Europe/Paris
BEGIN:VEVENT
UID:0-439@lecannetdesmaures.com
DTSTART;TZID=Europe/Paris:20251025T200000
DTEND;TZID=Europe/Paris:20251025T223000
DTSTAMP:20251008T094446Z
URL:https://www.lecannetdesmaures.com/evenements/soiree-cabaret/
SUMMARY:Soirée cabaret - Octobre rose
DESCRIPTION:Samedi 25 octobre 2025 à 20h dans la salle du Recoux\, soirée
  cabaret plumes\, paillettes\,\, french cancan.\nAvec la troupe Welcom' Ev
 ents Azur. Le cabaret traditionnel revisité : grâce\, sourires et séduc
 tion.\nTARIF : 25 euros  (une coupe de champagne et gâteaux de soirée) :
  2 euros au profit d'octobre rose.\nBILLETTERIE : Brasserie Chez Olive\, L
 a Presse\, le Fournil Cannetois.\nRenseignements :\n06 34 48 31 77
ATTACH;FMTTYPE=image/jpeg:https://www.lecannetdesmaures.com/app/uploads/20
 25/10/Document_SPECTACLE_CABARET_Affiche_Octobre_Rose_V05.jpg
CATEGORIES:Agenda,Solidarité
END:VEVENT
BEGIN:VTIMEZONE
TZID:Europe/Paris
X-LIC-LOCATION:Europe/Paris
BEGIN:DAYLIGHT
DTSTART:20250330T030000
TZOFFSETFROM:+0100
TZOFFSETTO:+0200
TZNAME:CEST
END:DAYLIGHT
END:VTIMEZONE
END:VCALENDAR