BEGIN:VCALENDAR
VERSION:2.0
PRODID:-//wp-events-plugin.com//7.1.7//EN
TZID:Europe/Paris
X-WR-TIMEZONE:Europe/Paris
BEGIN:VEVENT
UID:0-386@lecannetdesmaures.com
DTSTART;TZID=Europe/Paris:20250713T190000
DTEND;TZID=Europe/Paris:20250713T233000
DTSTAMP:20250625T102751Z
URL:https://www.lecannetdesmaures.com/evenements/soiree-republicaine/
SUMMARY:Soirée républicaine
DESCRIPTION:Dimanche 13 juillet dès 19h\, Cérémonie commémorative du 14
  juillet. Rendez-vous devant le Monument aux Morts puis sur le parvis de l
 a Mairie.\nApéritif offert par la municipalité suivi du repas tiré du p
 anier.\nAnimation musicale par les Destins Animés.\nRenseignements et ré
 servation :\n06 34 48 31 77
ATTACH;FMTTYPE=image/jpeg:https://www.lecannetdesmaures.com/app/uploads/20
 25/06/2025_06_cacm_soiree-republicaine_affiche_v01.jpg
CATEGORIES:Agenda
END:VEVENT
BEGIN:VTIMEZONE
TZID:Europe/Paris
X-LIC-LOCATION:Europe/Paris
BEGIN:DAYLIGHT
DTSTART:20250330T030000
TZOFFSETFROM:+0100
TZOFFSETTO:+0200
TZNAME:CEST
END:DAYLIGHT
END:VTIMEZONE
END:VCALENDAR