BEGIN:VCALENDAR
VERSION:2.0
PRODID:-//wp-events-plugin.com//7.1.7//EN
TZID:Europe/Paris
X-WR-TIMEZONE:Europe/Paris
BEGIN:VEVENT
UID:0-425@lecannetdesmaures.com
DTSTART;TZID=Europe/Paris:20250920T100000
DTEND;TZID=Europe/Paris:20250920T120000
DTSTAMP:20250910T153705Z
URL:https://www.lecannetdesmaures.com/evenements/sortie-entraigues/
SUMMARY:Sortie à la découverte du site d’Entraigues
DESCRIPTION:Le site d’Entraigues\, situé sur l’Argens entre les commun
 es du Cannet des Maures et de Vidauban\, revêt un intérêt patrimonial n
 aturel et culturel majeur au niveau national. Ce tronçon de l’Argens a 
 rejoint les sites classés en 1932 pour sa chapelle Saint-Michel\, ses pon
 ts de tuf naturels et ses richesses patrimoniales.Ce site exceptionnel d
 ’un point de vue naturel et culturel accueille aussi des usages humains 
 à forts enjeux (extraction d’eau potable\, production d’électricité
 ). Aujourd’hui géré par le CEN PACA et fermé au public pour des raiso
 ns de sécurité\, nous vous proposons une visite guidée sur ce lieu atyp
 ique.Activité animée par le Conservatoire d’Espaces Naturels PACA. \n
 Horaires : 10h – 12h\nInscription obligatoire\nRenseignements et inscri
 ption :\nTél. : 04 94 50 06 04\n environnement@lecannetdesmaures.com
ATTACH;FMTTYPE=image/jpeg:https://www.lecannetdesmaures.com/app/uploads/20
 25/09/09.20.2025-Sortie-Entraigues.jpg
CATEGORIES:Agenda
END:VEVENT
BEGIN:VTIMEZONE
TZID:Europe/Paris
X-LIC-LOCATION:Europe/Paris
BEGIN:DAYLIGHT
DTSTART:20250330T030000
TZOFFSETFROM:+0100
TZOFFSETTO:+0200
TZNAME:CEST
END:DAYLIGHT
END:VTIMEZONE
END:VCALENDAR