BEGIN:VCALENDAR
VERSION:2.0
PRODID:-//wp-events-plugin.com//7.1.7//EN
TZID:Europe/Paris
X-WR-TIMEZONE:Europe/Paris
BEGIN:VEVENT
UID:0-366@lecannetdesmaures.com
DTSTART;TZID=Europe/Paris:20250524T100000
DTEND;TZID=Europe/Paris:20250524T180000
DTSTAMP:20250429T104558Z
URL:https://www.lecannetdesmaures.com/evenements/tous-aux-jardins/
SUMMARY:Tous aux Jardins !
DESCRIPTION:Le samedi 24 mai 2025\, de 10h à 18h\, les jardins familiaux d
 u Cannet des Maures vous ouvrent leurs portes pour une journée conviviale
 \, pédagogique et pleine de nature.\n📍 Rendez-vous : Parking de la Bou
 drague\n🕘 Programme de la journée :🔹 10h15 – Visite guidée des j
 ardins🔹 10h à 12h – Conférence participative : "La fertilité du so
 l"\, + atelier de peinture naturelle🔹 12h30 – Apéritif offert suivi 
 d’un pique-nique tiré du sac🔹 14h à 16h – À la découverte du mo
 nde des abeilles 🔹 16h à 17h – Seconde visite guidée des jardins
 🔹 Toute la journée – Stand compostage animé par le Cœur du Var ♻
 ️\n🎟️ Entrée libre – Une belle occasion de se reconnecter à la 
 terre\, d’apprendre\, de partager et de profiter d’un cadre verdoyant 
 en famille ou entre amis \nRenseignements :\n📩 : environnement@lecannet
 desmaures.com📞 04 94 50 06 04
ATTACH;FMTTYPE=image/jpeg:https://www.lecannetdesmaures.com/app/uploads/20
 25/04/JARDINS_JO2025_v6-scaled.jpg
CATEGORIES:Agenda
END:VEVENT
BEGIN:VTIMEZONE
TZID:Europe/Paris
X-LIC-LOCATION:Europe/Paris
BEGIN:DAYLIGHT
DTSTART:20250330T030000
TZOFFSETFROM:+0100
TZOFFSETTO:+0200
TZNAME:CEST
END:DAYLIGHT
END:VTIMEZONE
END:VCALENDAR