BEGIN:VCALENDAR
VERSION:2.0
PRODID:-//wp-events-plugin.com//7.1.7//EN
TZID:Europe/Paris
X-WR-TIMEZONE:Europe/Paris
BEGIN:VEVENT
UID:0-438@lecannetdesmaures.com
DTSTART;TZID=Europe/Paris:20251012T080000
DTEND;TZID=Europe/Paris:20251012T180000
DTSTAMP:20251008T084313Z
URL:https://www.lecannetdesmaures.com/evenements/vide-grenier-2/
SUMMARY:Vide grenier solidaire - Octobre rose
DESCRIPTION:Dimanche 12 octobre 2025 de 8h à 18h\, vide grenier solidaire.
 \n12 euros les 4 m (2 euros reversés).\nPrésence d'un stand solidaire\, 
 buvette et restauration sur place.\nINSCRIPTIONS ET RENSEIGNEMENTS : 06 83
  51 30 02
ATTACH;FMTTYPE=image/jpeg:https://www.lecannetdesmaures.com/app/uploads/20
 25/10/Vide_Grenier_12_10_2025_V02.jpg
CATEGORIES:Agenda,Solidarité
END:VEVENT
BEGIN:VTIMEZONE
TZID:Europe/Paris
X-LIC-LOCATION:Europe/Paris
BEGIN:DAYLIGHT
DTSTART:20250330T030000
TZOFFSETFROM:+0100
TZOFFSETTO:+0200
TZNAME:CEST
END:DAYLIGHT
END:VTIMEZONE
END:VCALENDAR