BEGIN:VCALENDAR
VERSION:2.0
PRODID:-//wp-events-plugin.com//7.1.7//EN
TZID:Europe/Paris
X-WR-TIMEZONE:Europe/Paris
BEGIN:VEVENT
UID:0-436@lecannetdesmaures.com
DTSTART;TZID=Europe/Paris:20251020T093000
DTEND;TZID=Europe/Paris:20251020T113000
DTSTAMP:20251003T081058Z
URL:https://www.lecannetdesmaures.com/evenements/visite-roseraies-meilland
 /
SUMMARY:Visite des roseraies MEILLAND
DESCRIPTION:Lundi 20 octobre 2025 à 9h30\, visite des roseraies MEILLAND.\
 nVenez découvrir l'univers du créateur de rosiers français diffusés da
 ns le monde entier.\nInfos/réservations : \nTél : 04 94 50 10 09\nLimit
 é à 25 place\nDépart à 9h15 du parking TISSOT.
ATTACH;FMTTYPE=image/jpeg:https://www.lecannetdesmaures.com/app/uploads/20
 25/10/2025-10-VISITES-Meilland.jpg
CATEGORIES:Agenda
END:VEVENT
BEGIN:VTIMEZONE
TZID:Europe/Paris
X-LIC-LOCATION:Europe/Paris
BEGIN:DAYLIGHT
DTSTART:20250330T030000
TZOFFSETFROM:+0100
TZOFFSETTO:+0200
TZNAME:CEST
END:DAYLIGHT
END:VTIMEZONE
END:VCALENDAR