BEGIN:VCALENDAR
VERSION:2.0
PRODID:-//wp-events-plugin.com//7.1.7//EN
TZID:Europe/Paris
X-WR-TIMEZONE:Europe/Paris
BEGIN:VEVENT
UID:0-364@lecannetdesmaures.com
DTSTART;TZID=Europe/Paris:20250526T093000
DTEND;TZID=Europe/Paris:20250526T110000
DTSTAMP:20250425T092351Z
URL:https://www.lecannetdesmaures.com/evenements/visite-roseraies/
SUMMARY:Visite des Roseraies Meilland
DESCRIPTION:Visite des roseraies de l'un des grands noms de créateurs de r
 osiers français\, le lundi 26 mai à partir de 9h30 au Cannet des Maures.
 \nUne visite commentée des Roseraies Meilland\, créateur de rosiers fran
 çais diffusés dans le monde entier\, vous est proposée sur inscription 
 (nombre de places limitées). Départ du parking Tissot à 9h15.\nRenseig
 nements et inscriptions :\nTél. : 04 94 50 10 09
ATTACH;FMTTYPE=image/jpeg:https://www.lecannetdesmaures.com/app/uploads/20
 25/04/2025_10_Visites_Meilland_Affiche_A4_v06.jpg
CATEGORIES:Agenda
END:VEVENT
BEGIN:VTIMEZONE
TZID:Europe/Paris
X-LIC-LOCATION:Europe/Paris
BEGIN:DAYLIGHT
DTSTART:20250330T030000
TZOFFSETFROM:+0100
TZOFFSETTO:+0200
TZNAME:CEST
END:DAYLIGHT
END:VTIMEZONE
END:VCALENDAR